BEGIN:VCALENDAR
VERSION:2.0
PRODID:-//Subcontractors USA - ECPv6.15.20//NONSGML v1.0//EN
CALSCALE:GREGORIAN
METHOD:PUBLISH
X-ORIGINAL-URL:https://subcusa.com
X-WR-CALDESC:Events for Subcontractors USA
REFRESH-INTERVAL;VALUE=DURATION:PT1H
X-Robots-Tag:noindex
X-PUBLISHED-TTL:PT1H
BEGIN:VTIMEZONE
TZID:UTC
BEGIN:STANDARD
TZOFFSETFROM:+0000
TZOFFSETTO:+0000
TZNAME:UTC
DTSTART:20250101T000000
END:STANDARD
END:VTIMEZONE
BEGIN:VEVENT
DTSTART;TZID=UTC:20260121T173000
DTEND;TZID=UTC:20260121T203000
DTSTAMP:20260423T123535
CREATED:20260121T212847Z
LAST-MODIFIED:20260121T212847Z
UID:10001008-1769016600-1769027400@subcusa.com
SUMMARY:Houston\, TX - Provoke Luck with NAMC - VIP Mixer
DESCRIPTION:REGISTRATION
URL:https://subcusa.com/event/houston-tx-provoke-luck-with-namc-vip-mixer/
LOCATION:White Oak Social\, 313 E. Woodland Street\, Houston\, TX\, 77009\, United States
ATTACH;FMTTYPE=image/jpeg:https://subcusa.com/wp-content/uploads/2026/01/Screenshot-2026-01-21-152557.jpg
END:VEVENT
END:VCALENDAR